BEGIN:VCALENDAR
VERSION:2.0
PRODID:-//Monto Magic - ECPv6.15.20//NONSGML v1.0//EN
CALSCALE:GREGORIAN
METHOD:PUBLISH
X-WR-CALNAME:Monto Magic
X-ORIGINAL-URL:https://montomagic.com.au
X-WR-CALDESC:Events for Monto Magic
REFRESH-INTERVAL;VALUE=DURATION:PT1H
X-Robots-Tag:noindex
X-PUBLISHED-TTL:PT1H
BEGIN:VTIMEZONE
TZID:Australia/Brisbane
BEGIN:STANDARD
TZOFFSETFROM:+1000
TZOFFSETTO:+1000
TZNAME:AEST
DTSTART:20240101T000000
END:STANDARD
END:VTIMEZONE
BEGIN:VEVENT
DTSTART;TZID=Australia/Brisbane:20250819T090000
DTEND;TZID=Australia/Brisbane:20250819T120000
DTSTAMP:20260420T213427
CREATED:20250805T034544Z
LAST-MODIFIED:20250805T034544Z
UID:42565-1755594000-1755604800@montomagic.com.au
SUMMARY:Burnett Mobile Playgroup
DESCRIPTION: 
URL:https://montomagic.com.au/event/burnett-mobile-playgroup-5/
END:VEVENT
BEGIN:VEVENT
DTSTART;TZID=Australia/Brisbane:20250819T093000
DTEND;TZID=Australia/Brisbane:20250819T093000
DTSTAMP:20260420T213427
CREATED:20250506T044801Z
LAST-MODIFIED:20250506T044801Z
UID:41378-1755595800-1755595800@montomagic.com.au
SUMMARY:Ladies Morning Tea
DESCRIPTION:
URL:https://montomagic.com.au/event/ladies-morning-tea-19-08/
LOCATION:Monto Christian Ministry Centre\, 5 Leichhardt St\, Monto
CATEGORIES:Event,Food
END:VEVENT
END:VCALENDAR