BEGIN:VCALENDAR
VERSION:2.0
PRODID:-//Monto Magic - ECPv6.15.20//NONSGML v1.0//EN
CALSCALE:GREGORIAN
METHOD:PUBLISH
X-WR-CALNAME:Monto Magic
X-ORIGINAL-URL:https://montomagic.com.au
X-WR-CALDESC:Events for Monto Magic
REFRESH-INTERVAL;VALUE=DURATION:PT1H
X-Robots-Tag:noindex
X-PUBLISHED-TTL:PT1H
BEGIN:VTIMEZONE
TZID:Australia/Brisbane
BEGIN:STANDARD
TZOFFSETFROM:+1000
TZOFFSETTO:+1000
TZNAME:AEST
DTSTART:20240101T000000
END:STANDARD
END:VTIMEZONE
BEGIN:VEVENT
DTSTART;TZID=Australia/Brisbane:20250822T083000
DTEND;TZID=Australia/Brisbane:20250822T110000
DTSTAMP:20260420T213406
CREATED:20250726T061619Z
LAST-MODIFIED:20250726T061619Z
UID:42371-1755851400-1755860400@montomagic.com.au
SUMMARY:Playgroup at St Therese's
DESCRIPTION:
URL:https://montomagic.com.au/event/playgroup-at-st-thereses-3/
ATTACH;FMTTYPE=image/jpeg:https://montomagic.com.au/wp-content/uploads/2025/07/b36fe7d4-d41b-4050-ba09-19d1e80c0635.jpg
END:VEVENT
BEGIN:VEVENT
DTSTART;TZID=Australia/Brisbane:20250822T090000
DTEND;TZID=Australia/Brisbane:20250822T130000
DTSTAMP:20260420T213406
CREATED:20250805T033022Z
LAST-MODIFIED:20250805T033022Z
UID:42549-1755853200-1755867600@montomagic.com.au
SUMMARY:Movies at the Neighbourhood Centre
DESCRIPTION:49942508
URL:https://montomagic.com.au/event/movies-at-the-neighbourhood-centre-2/
ATTACH;FMTTYPE=image/jpeg:https://montomagic.com.au/wp-content/uploads/2025/08/528036666_1059346886369710_9036771789098893400_n.jpg
END:VEVENT
BEGIN:VEVENT
DTSTART;TZID=Australia/Brisbane:20250822T133000
DTEND;TZID=Australia/Brisbane:20250822T143000
DTSTAMP:20260420T213406
CREATED:20250506T054916Z
LAST-MODIFIED:20250506T054916Z
UID:41506-1755869400-1755873000@montomagic.com.au
SUMMARY:Learn to Knit
DESCRIPTION:
URL:https://montomagic.com.au/event/learn-to-knit-22-08/
END:VEVENT
END:VCALENDAR