BEGIN:VCALENDAR
VERSION:2.0
PRODID:-//Monto Magic - ECPv6.15.20//NONSGML v1.0//EN
CALSCALE:GREGORIAN
METHOD:PUBLISH
X-ORIGINAL-URL:https://montomagic.com.au
X-WR-CALDESC:Events for Monto Magic
REFRESH-INTERVAL;VALUE=DURATION:PT1H
X-Robots-Tag:noindex
X-PUBLISHED-TTL:PT1H
BEGIN:VTIMEZONE
TZID:Australia/Brisbane
BEGIN:STANDARD
TZOFFSETFROM:+1000
TZOFFSETTO:+1000
TZNAME:AEST
DTSTART:20240101T000000
END:STANDARD
END:VTIMEZONE
BEGIN:VEVENT
DTSTART;TZID=Australia/Brisbane:20250825T090000
DTEND;TZID=Australia/Brisbane:20250825T110000
DTSTAMP:20260420T213028
CREATED:20250506T061732Z
LAST-MODIFIED:20250506T061732Z
UID:41558-1756112400-1756119600@montomagic.com.au
SUMMARY:Tai Chi
DESCRIPTION:
URL:https://montomagic.com.au/event/tai-chi-17/
LOCATION:Monto Shire Hall
CATEGORIES:Sports
END:VEVENT
BEGIN:VEVENT
DTSTART;TZID=Australia/Brisbane:20250825T090000
DTEND;TZID=Australia/Brisbane:20250825T110000
DTSTAMP:20260420T213028
CREATED:20250618T094555Z
LAST-MODIFIED:20250618T094555Z
UID:42266-1756112400-1756119600@montomagic.com.au
SUMMARY:Playgroup at Monto State Primary School
DESCRIPTION:
URL:https://montomagic.com.au/event/playgroup-at-monto-state-primary-school-6/
ATTACH;FMTTYPE=image/jpeg:https://montomagic.com.au/wp-content/uploads/2025/06/508257172_1225414886040773_7908846402767611777_n.jpg
END:VEVENT
BEGIN:VEVENT
DTSTART;TZID=Australia/Brisbane:20250825T120000
DTEND;TZID=Australia/Brisbane:20250825T160000
DTSTAMP:20260420T213028
CREATED:20250506T065909Z
LAST-MODIFIED:20250506T065909Z
UID:41829-1756123200-1756137600@montomagic.com.au
SUMMARY:Cards - 500
DESCRIPTION:MONTO CARD GROUP \nPlays 500s every Monday afternoon in the Monto Community Hall Function Room\n12.00noon to 4.00pm\n$3.00 covers the game and afternoon tea\nSome experience in 500s appreciated. Sense of humour essential.\nAll welcome
URL:https://montomagic.com.au/event/cards-500-18/
LOCATION:Monto Shire Hall
CATEGORIES:Event
END:VEVENT
BEGIN:VEVENT
DTSTART;TZID=Australia/Brisbane:20250825T130000
DTEND;TZID=Australia/Brisbane:20250825T170000
DTSTAMP:20260420T213028
CREATED:20250805T031600Z
LAST-MODIFIED:20250805T031650Z
UID:42532-1756126800-1756141200@montomagic.com.au
SUMMARY:Book Swap
DESCRIPTION:49942508
URL:https://montomagic.com.au/event/book-swap-2/
ATTACH;FMTTYPE=image/jpeg:https://montomagic.com.au/wp-content/uploads/2025/08/527885914_1059346883036377_1177473780991035782_n.jpg
END:VEVENT
END:VCALENDAR