BEGIN:VCALENDAR
VERSION:2.0
PRODID:-//Monto Magic - ECPv6.15.20//NONSGML v1.0//EN
CALSCALE:GREGORIAN
METHOD:PUBLISH
X-ORIGINAL-URL:https://montomagic.com.au
X-WR-CALDESC:Events for Monto Magic
REFRESH-INTERVAL;VALUE=DURATION:PT1H
X-Robots-Tag:noindex
X-PUBLISHED-TTL:PT1H
BEGIN:VTIMEZONE
TZID:Australia/Brisbane
BEGIN:STANDARD
TZOFFSETFROM:+1000
TZOFFSETTO:+1000
TZNAME:AEST
DTSTART:20240101T000000
END:STANDARD
END:VTIMEZONE
BEGIN:VEVENT
DTSTART;TZID=Australia/Brisbane:20250829T083000
DTEND;TZID=Australia/Brisbane:20250829T110000
DTSTAMP:20260420T212925
CREATED:20250726T061746Z
LAST-MODIFIED:20250726T061813Z
UID:42373-1756456200-1756465200@montomagic.com.au
SUMMARY:Playgroup at St Therese's
DESCRIPTION:
URL:https://montomagic.com.au/event/playgroup-at-st-thereses-4/
END:VEVENT
BEGIN:VEVENT
DTSTART;TZID=Australia/Brisbane:20250829T143000
DTEND;TZID=Australia/Brisbane:20250829T170000
DTSTAMP:20260420T212925
CREATED:20250813T122929Z
LAST-MODIFIED:20250813T122929Z
UID:42573-1756477800-1756486800@montomagic.com.au
SUMMARY:Pretty in Pink Breast Cancer Afternoon Tea
DESCRIPTION:
URL:https://montomagic.com.au/event/pretty-in-pink-breast-cancer-afternoon-tea/
ATTACH;FMTTYPE=image/jpeg:https://montomagic.com.au/wp-content/uploads/2025/08/531282925_24850238771235186_7107973569636305358_n.jpg
END:VEVENT
BEGIN:VEVENT
DTSTART;TZID=Australia/Brisbane:20250829T173000
DTEND;TZID=Australia/Brisbane:20250829T190000
DTSTAMP:20260420T212925
CREATED:20250825T060654Z
LAST-MODIFIED:20250825T060949Z
UID:42608-1756488600-1756494000@montomagic.com.au
SUMMARY:Sense of Place Printmaking Workshop exhibition
DESCRIPTION:Sense of Place Printmaking Workshop exhibition opening Friday 29th August 5pm Monto Museum of Art.Come and see the artworks created at the drypoint printmaking workshop held earlier this month at Monto Landcare. Silent auction for those interested in purchasing an original artwork.The workshop was made possible by a RADF grant.The Regional Arts Development Fund is a partnership between the Queensland Government and North Burnett Regional Council to support local arts and culture in regional Queensland. \n 
URL:https://montomagic.com.au/event/sense-of-place-printmaking-workshop-exhibition/
ATTACH;FMTTYPE=image/jpeg:https://montomagic.com.au/wp-content/uploads/2025/08/538301599_122262929174206969_8849373124630790864_n.jpg
END:VEVENT
BEGIN:VEVENT
DTSTART;TZID=Australia/Brisbane:20250829T180000
DTEND;TZID=Australia/Brisbane:20250829T203000
DTSTAMP:20260420T212925
CREATED:20250506T072912Z
LAST-MODIFIED:20250506T072917Z
UID:41898-1756490400-1756499400@montomagic.com.au
SUMMARY:Social Bowls
DESCRIPTION:Friday night social bowls.All welcome 6pm for a 6:30pm start Always a great night No bowls ~ no worries the club have some you can borrow. \nCost $10 a team (3 per team)  \nIf u don’t have 3\, don’t stress we will find u team mates.  \nBBQ tea. \n Every fortnight (Friday’s )  \nCourtesy bus available.
URL:https://montomagic.com.au/event/social-bowls-copy/
CATEGORIES:Sports
END:VEVENT
END:VCALENDAR