BEGIN:VCALENDAR
VERSION:2.0
PRODID:-//Monto Magic - ECPv6.15.20//NONSGML v1.0//EN
CALSCALE:GREGORIAN
METHOD:PUBLISH
X-WR-CALNAME:Monto Magic
X-ORIGINAL-URL:https://montomagic.com.au
X-WR-CALDESC:Events for Monto Magic
REFRESH-INTERVAL;VALUE=DURATION:PT1H
X-Robots-Tag:noindex
X-PUBLISHED-TTL:PT1H
BEGIN:VTIMEZONE
TZID:Australia/Brisbane
BEGIN:STANDARD
TZOFFSETFROM:+1000
TZOFFSETTO:+1000
TZNAME:AEST
DTSTART:20240101T000000
END:STANDARD
END:VTIMEZONE
BEGIN:VEVENT
DTSTART;TZID=Australia/Brisbane:20250831T090000
DTEND;TZID=Australia/Brisbane:20250831T130000
DTSTAMP:20260422T200818
CREATED:20250727T000627Z
LAST-MODIFIED:20250727T000627Z
UID:42427-1756630800-1756645200@montomagic.com.au
SUMMARY:Markets at Many Peaks
DESCRIPTION:
URL:https://montomagic.com.au/event/markets-at-many-peaks-2/
ATTACH;FMTTYPE=image/jpeg:https://montomagic.com.au/wp-content/uploads/2025/07/523367873_10229759678964435_9074622667094680372_n.jpg
END:VEVENT
END:VCALENDAR