BEGIN:VCALENDAR
VERSION:2.0
PRODID:-//Monto Magic - ECPv6.15.20//NONSGML v1.0//EN
CALSCALE:GREGORIAN
METHOD:PUBLISH
X-ORIGINAL-URL:https://montomagic.com.au
X-WR-CALDESC:Events for Monto Magic
REFRESH-INTERVAL;VALUE=DURATION:PT1H
X-Robots-Tag:noindex
X-PUBLISHED-TTL:PT1H
BEGIN:VTIMEZONE
TZID:Australia/Brisbane
BEGIN:STANDARD
TZOFFSETFROM:+1000
TZOFFSETTO:+1000
TZNAME:AEST
DTSTART:20240101T000000
END:STANDARD
END:VTIMEZONE
BEGIN:VEVENT
DTSTART;VALUE=DATE:20250913
DTEND;VALUE=DATE:20250914
DTSTAMP:20260423T005923
CREATED:20250505T131602Z
LAST-MODIFIED:20250510T090444Z
UID:40510-1757721600-1757807999@montomagic.com.au
SUMMARY:Rangeview Charbrays selling at Monto All Breeds Bull Sale
DESCRIPTION:Rangeview Charbrays \n\nSelling at Kellco Rural Agencies  Monto All Breeds Bull Sale.\nSaturday 13th September.\nFind us on Facebook to see what is on offer – Rangeview Charbrays & Hay Supplies.
URL:https://montomagic.com.au/event/rangeview-charbrays-selling-at-monto-all-breeds-bull-sale-3/
LOCATION:Sale Yards\, Sale Yards Road\, Monto
END:VEVENT
BEGIN:VEVENT
DTSTART;VALUE=DATE:20250913
DTEND;VALUE=DATE:20250914
DTSTAMP:20260423T005923
CREATED:20250505T131716Z
LAST-MODIFIED:20250510T090457Z
UID:41040-1757721600-1757807999@montomagic.com.au
SUMMARY:All Breeds Bull Sale & Working Horse & Dog Sale
DESCRIPTION:  \n 
URL:https://montomagic.com.au/event/all-breeds-bull-sale-working-horse-dog-sale/
END:VEVENT
BEGIN:VEVENT
DTSTART;TZID=Australia/Brisbane:20250913T090000
DTEND;TZID=Australia/Brisbane:20250913T120000
DTSTAMP:20260423T005923
CREATED:20250728T213046Z
LAST-MODIFIED:20250728T213046Z
UID:42433-1757754000-1757764800@montomagic.com.au
SUMMARY:Monto Markets
DESCRIPTION:
URL:https://montomagic.com.au/event/monto-markets-17/
ATTACH;FMTTYPE=image/jpeg:https://montomagic.com.au/wp-content/uploads/2025/07/521240350_1728264264561721_6139941736202100063_n.jpg
END:VEVENT
END:VCALENDAR