BEGIN:VCALENDAR
VERSION:2.0
PRODID:-//Monto Magic - ECPv6.15.20//NONSGML v1.0//EN
CALSCALE:GREGORIAN
METHOD:PUBLISH
X-WR-CALNAME:Monto Magic
X-ORIGINAL-URL:https://montomagic.com.au
X-WR-CALDESC:Events for Monto Magic
REFRESH-INTERVAL;VALUE=DURATION:PT1H
X-Robots-Tag:noindex
X-PUBLISHED-TTL:PT1H
BEGIN:VTIMEZONE
TZID:Australia/Brisbane
BEGIN:STANDARD
TZOFFSETFROM:+1000
TZOFFSETTO:+1000
TZNAME:AEST
DTSTART:20240101T000000
END:STANDARD
END:VTIMEZONE
BEGIN:VEVENT
DTSTART;TZID=Australia/Brisbane:20250917T160000
DTEND;TZID=Australia/Brisbane:20250917T170000
DTSTAMP:20260422T200813
CREATED:20250902T035641Z
LAST-MODIFIED:20250902T035641Z
UID:42652-1758124800-1758128400@montomagic.com.au
SUMMARY:Little Athletics Sign On
DESCRIPTION:
URL:https://montomagic.com.au/event/little-athletics-sign-on/
ATTACH;FMTTYPE=image/jpeg:https://montomagic.com.au/wp-content/uploads/2025/09/2c0eac99-e988-40eb-9ca1-082f27063281.jpg
END:VEVENT
END:VCALENDAR