BEGIN:VCALENDAR
VERSION:2.0
PRODID:-//Monto Magic - ECPv6.15.20//NONSGML v1.0//EN
CALSCALE:GREGORIAN
METHOD:PUBLISH
X-ORIGINAL-URL:https://montomagic.com.au
X-WR-CALDESC:Events for Monto Magic
REFRESH-INTERVAL;VALUE=DURATION:PT1H
X-Robots-Tag:noindex
X-PUBLISHED-TTL:PT1H
BEGIN:VTIMEZONE
TZID:Australia/Brisbane
BEGIN:STANDARD
TZOFFSETFROM:+1000
TZOFFSETTO:+1000
TZNAME:AEST
DTSTART:20240101T000000
END:STANDARD
END:VTIMEZONE
BEGIN:VEVENT
DTSTART;TZID=Australia/Brisbane:20250919T083000
DTEND;TZID=Australia/Brisbane:20250919T110000
DTSTAMP:20260422T200940
CREATED:20250726T062445Z
LAST-MODIFIED:20250726T062445Z
UID:42379-1758270600-1758279600@montomagic.com.au
SUMMARY:Playgroup at St Therese's
DESCRIPTION:
URL:https://montomagic.com.au/event/playgroup-at-st-thereses-7/
ATTACH;FMTTYPE=image/jpeg:https://montomagic.com.au/wp-content/uploads/2025/07/b36fe7d4-d41b-4050-ba09-19d1e80c0635.jpg
END:VEVENT
BEGIN:VEVENT
DTSTART;TZID=Australia/Brisbane:20250919T133000
DTEND;TZID=Australia/Brisbane:20250919T143000
DTSTAMP:20260422T200940
CREATED:20250506T055051Z
LAST-MODIFIED:20250506T055051Z
UID:41510-1758288600-1758292200@montomagic.com.au
SUMMARY:Learn to Knit
DESCRIPTION:
URL:https://montomagic.com.au/event/learn-to-knit-19-09/
END:VEVENT
END:VCALENDAR