BEGIN:VCALENDAR
VERSION:2.0
PRODID:-//Monto Magic - ECPv6.15.20//NONSGML v1.0//EN
CALSCALE:GREGORIAN
METHOD:PUBLISH
X-WR-CALNAME:Monto Magic
X-ORIGINAL-URL:https://montomagic.com.au
X-WR-CALDESC:Events for Monto Magic
REFRESH-INTERVAL;VALUE=DURATION:PT1H
X-Robots-Tag:noindex
X-PUBLISHED-TTL:PT1H
BEGIN:VTIMEZONE
TZID:Australia/Brisbane
BEGIN:STANDARD
TZOFFSETFROM:+1000
TZOFFSETTO:+1000
TZNAME:AEST
DTSTART:20240101T000000
END:STANDARD
END:VTIMEZONE
BEGIN:VEVENT
DTSTART;TZID=Australia/Brisbane:20250922T090000
DTEND;TZID=Australia/Brisbane:20250922T110000
DTSTAMP:20260422T215417
CREATED:20250506T061933Z
LAST-MODIFIED:20250506T061933Z
UID:41566-1758531600-1758538800@montomagic.com.au
SUMMARY:Tai Chi
DESCRIPTION:
URL:https://montomagic.com.au/event/tai-chi-21/
LOCATION:Monto Shire Hall
CATEGORIES:Sports
END:VEVENT
BEGIN:VEVENT
DTSTART;TZID=Australia/Brisbane:20250922T100000
DTEND;TZID=Australia/Brisbane:20250926T140000
DTSTAMP:20260422T215417
CREATED:20250909T122256Z
LAST-MODIFIED:20250909T122256Z
UID:42656-1758535200-1758895200@montomagic.com.au
SUMMARY:Music Workshop for children
DESCRIPTION:
URL:https://montomagic.com.au/event/music-workshop-for-children/
ATTACH;FMTTYPE=image/jpeg:https://montomagic.com.au/wp-content/uploads/2025/09/545570879_739256678951108_9120544229680047784_n.jpg
END:VEVENT
BEGIN:VEVENT
DTSTART;TZID=Australia/Brisbane:20250922T120000
DTEND;TZID=Australia/Brisbane:20250922T160000
DTSTAMP:20260422T215417
CREATED:20250506T070122Z
LAST-MODIFIED:20250506T070122Z
UID:41837-1758542400-1758556800@montomagic.com.au
SUMMARY:Cards - 500
DESCRIPTION:MONTO CARD GROUP \nPlays 500s every Monday afternoon in the Monto Community Hall Function Room\n12.00noon to 4.00pm\n$3.00 covers the game and afternoon tea\nSome experience in 500s appreciated. Sense of humour essential.\nAll welcome
URL:https://montomagic.com.au/event/cards-500-22/
LOCATION:Monto Shire Hall
CATEGORIES:Event
END:VEVENT
END:VCALENDAR