BEGIN:VCALENDAR
VERSION:2.0
PRODID:-//Monto Magic - ECPv6.15.20//NONSGML v1.0//EN
CALSCALE:GREGORIAN
METHOD:PUBLISH
X-WR-CALNAME:Monto Magic
X-ORIGINAL-URL:https://montomagic.com.au
X-WR-CALDESC:Events for Monto Magic
REFRESH-INTERVAL;VALUE=DURATION:PT1H
X-Robots-Tag:noindex
X-PUBLISHED-TTL:PT1H
BEGIN:VTIMEZONE
TZID:Australia/Brisbane
BEGIN:STANDARD
TZOFFSETFROM:+1000
TZOFFSETTO:+1000
TZNAME:AEST
DTSTART:20240101T000000
END:STANDARD
END:VTIMEZONE
BEGIN:VEVENT
DTSTART;TZID=Australia/Brisbane:20251201T090000
DTEND;TZID=Australia/Brisbane:20251201T110000
DTSTAMP:20260421T052040
CREATED:20250506T062410Z
LAST-MODIFIED:20250506T062410Z
UID:41586-1764579600-1764586800@montomagic.com.au
SUMMARY:Tai Chi
DESCRIPTION:
URL:https://montomagic.com.au/event/tai-chi-31/
LOCATION:Monto Shire Hall
CATEGORIES:Sports
END:VEVENT
BEGIN:VEVENT
DTSTART;TZID=Australia/Brisbane:20251205T180000
DTEND;TZID=Australia/Brisbane:20251205T203000
DTSTAMP:20260421T052040
CREATED:20250506T073319Z
LAST-MODIFIED:20250506T073319Z
UID:41913-1764957600-1764966600@montomagic.com.au
SUMMARY:Social Bowls
DESCRIPTION:Friday night social bowls.All welcome 6pm for a 6:30pm start Always a great night No bowls ~ no worries the club have some you can borrow. \nCost $10 a team (3 per team)  \nIf u don’t have 3\, don’t stress we will find u team mates.  \nBBQ tea. \n Every fortnight (Friday’s )  \nCourtesy bus available.
URL:https://montomagic.com.au/event/social-bowls-15/
CATEGORIES:Sports
END:VEVENT
BEGIN:VEVENT
DTSTART;VALUE=DATE:20251207
DTEND;VALUE=DATE:20251208
DTSTAMP:20260421T052040
CREATED:20250527T063852Z
LAST-MODIFIED:20250527T063852Z
UID:42191-1765065600-1765151999@montomagic.com.au
SUMMARY:Pony Club Rally Day
DESCRIPTION:Monto Pony Club – monto.ponyclub@gmail.com \n 
URL:https://montomagic.com.au/event/pony-club-rally-day-8/
CATEGORIES:Event,For Kids,Sports
ATTACH;FMTTYPE=image/jpeg:https://montomagic.com.au/wp-content/uploads/2025/05/Day-of-the-Horse-Instagram-Post-Made-with-PosterMyWall.jpg
END:VEVENT
BEGIN:VEVENT
DTSTART;TZID=Australia/Brisbane:20251208T090000
DTEND;TZID=Australia/Brisbane:20251208T110000
DTSTAMP:20260421T052040
CREATED:20250506T062449Z
LAST-MODIFIED:20250506T062449Z
UID:41588-1765184400-1765191600@montomagic.com.au
SUMMARY:Tai Chi
DESCRIPTION:
URL:https://montomagic.com.au/event/tai-chi-32/
LOCATION:Monto Shire Hall
CATEGORIES:Sports
END:VEVENT
BEGIN:VEVENT
DTSTART;TZID=Australia/Brisbane:20251215T090000
DTEND;TZID=Australia/Brisbane:20251215T110000
DTSTAMP:20260421T052040
CREATED:20250506T062553Z
LAST-MODIFIED:20250506T062553Z
UID:41590-1765789200-1765796400@montomagic.com.au
SUMMARY:Tai Chi
DESCRIPTION:
URL:https://montomagic.com.au/event/tai-chi-33/
LOCATION:Monto Shire Hall
CATEGORIES:Sports
END:VEVENT
BEGIN:VEVENT
DTSTART;TZID=Australia/Brisbane:20251219T180000
DTEND;TZID=Australia/Brisbane:20251219T203000
DTSTAMP:20260421T052040
CREATED:20250506T073342Z
LAST-MODIFIED:20250506T073342Z
UID:41915-1766167200-1766176200@montomagic.com.au
SUMMARY:Social Bowls
DESCRIPTION:Friday night social bowls.All welcome 6pm for a 6:30pm start Always a great night No bowls ~ no worries the club have some you can borrow. \nCost $10 a team (3 per team)  \nIf u don’t have 3\, don’t stress we will find u team mates.  \nBBQ tea. \n Every fortnight (Friday’s )  \nCourtesy bus available.
URL:https://montomagic.com.au/event/social-bowls-16/
CATEGORIES:Sports
END:VEVENT
END:VCALENDAR