BEGIN:VCALENDAR
VERSION:2.0
PRODID:-//Monto Magic - ECPv6.15.20//NONSGML v1.0//EN
CALSCALE:GREGORIAN
METHOD:PUBLISH
X-ORIGINAL-URL:https://montomagic.com.au
X-WR-CALDESC:Events for Monto Magic
REFRESH-INTERVAL;VALUE=DURATION:PT1H
X-Robots-Tag:noindex
X-PUBLISHED-TTL:PT1H
BEGIN:VTIMEZONE
TZID:Australia/Brisbane
BEGIN:STANDARD
TZOFFSETFROM:+1000
TZOFFSETTO:+1000
TZNAME:AEST
DTSTART:20240101T000000
END:STANDARD
END:VTIMEZONE
BEGIN:VEVENT
DTSTART;TZID=Australia/Brisbane:20251107T180000
DTEND;TZID=Australia/Brisbane:20251107T203000
DTSTAMP:20260421T040441
CREATED:20250506T073203Z
LAST-MODIFIED:20250506T073203Z
UID:41909-1762538400-1762547400@montomagic.com.au
SUMMARY:Social Bowls
DESCRIPTION:Friday night social bowls.All welcome 6pm for a 6:30pm start Always a great night No bowls ~ no worries the club have some you can borrow. \nCost $10 a team (3 per team)  \nIf u don’t have 3\, don’t stress we will find u team mates.  \nBBQ tea. \n Every fortnight (Friday’s )  \nCourtesy bus available.
URL:https://montomagic.com.au/event/social-bowls-13/
CATEGORIES:Sports
END:VEVENT
BEGIN:VEVENT
DTSTART;TZID=Australia/Brisbane:20251103T090000
DTEND;TZID=Australia/Brisbane:20251103T110000
DTSTAMP:20260421T040441
CREATED:20250506T062230Z
LAST-MODIFIED:20250506T062230Z
UID:41578-1762160400-1762167600@montomagic.com.au
SUMMARY:Tai Chi
DESCRIPTION:
URL:https://montomagic.com.au/event/tai-chi-27/
LOCATION:Monto Shire Hall
CATEGORIES:Sports
END:VEVENT
BEGIN:VEVENT
DTSTART;TZID=Australia/Brisbane:20251027T090000
DTEND;TZID=Australia/Brisbane:20251027T110000
DTSTAMP:20260421T040441
CREATED:20250506T062202Z
LAST-MODIFIED:20250506T062202Z
UID:41576-1761555600-1761562800@montomagic.com.au
SUMMARY:Tai Chi
DESCRIPTION:
URL:https://montomagic.com.au/event/tai-chi-26/
LOCATION:Monto Shire Hall
CATEGORIES:Sports
END:VEVENT
BEGIN:VEVENT
DTSTART;VALUE=DATE:20251026
DTEND;VALUE=DATE:20251027
DTSTAMP:20260421T040441
CREATED:20250527T063551Z
LAST-MODIFIED:20250527T063551Z
UID:42185-1761436800-1761523199@montomagic.com.au
SUMMARY:Pony Club Rally Day
DESCRIPTION:  \nMonto Pony Club – monto.ponyclub@gmail.com \nAt Monto Show Grounds\, Oxley St\, Monto
URL:https://montomagic.com.au/event/pony-club-rally-day-5/
CATEGORIES:Event,For Kids,Sports
ATTACH;FMTTYPE=image/jpeg:https://montomagic.com.au/wp-content/uploads/2025/05/Day-of-the-Horse-Instagram-Post-Made-with-PosterMyWall.jpg
END:VEVENT
BEGIN:VEVENT
DTSTART;TZID=Australia/Brisbane:20251024T180000
DTEND;TZID=Australia/Brisbane:20251024T203000
DTSTAMP:20260421T040441
CREATED:20250506T073125Z
LAST-MODIFIED:20250506T073125Z
UID:41907-1761328800-1761337800@montomagic.com.au
SUMMARY:Social Bowls
DESCRIPTION:Friday night social bowls.All welcome 6pm for a 6:30pm start Always a great night No bowls ~ no worries the club have some you can borrow. \nCost $10 a team (3 per team)  \nIf u don’t have 3\, don’t stress we will find u team mates.  \nBBQ tea. \n Every fortnight (Friday’s )  \nCourtesy bus available.
URL:https://montomagic.com.au/event/social-bowls-12/
CATEGORIES:Sports
END:VEVENT
BEGIN:VEVENT
DTSTART;TZID=Australia/Brisbane:20251020T090000
DTEND;TZID=Australia/Brisbane:20251020T110000
DTSTAMP:20260421T040441
CREATED:20250506T062134Z
LAST-MODIFIED:20250506T062134Z
UID:41574-1760950800-1760958000@montomagic.com.au
SUMMARY:Tai Chi
DESCRIPTION:
URL:https://montomagic.com.au/event/tai-chi-25/
LOCATION:Monto Shire Hall
CATEGORIES:Sports
END:VEVENT
BEGIN:VEVENT
DTSTART;TZID=Australia/Brisbane:20251013T090000
DTEND;TZID=Australia/Brisbane:20251013T110000
DTSTAMP:20260421T040441
CREATED:20250506T062058Z
LAST-MODIFIED:20250506T062058Z
UID:41572-1760346000-1760353200@montomagic.com.au
SUMMARY:Tai Chi
DESCRIPTION:
URL:https://montomagic.com.au/event/tai-chi-24/
LOCATION:Monto Shire Hall
CATEGORIES:Sports
END:VEVENT
BEGIN:VEVENT
DTSTART;TZID=Australia/Brisbane:20251010T180000
DTEND;TZID=Australia/Brisbane:20251010T203000
DTSTAMP:20260421T040441
CREATED:20250506T073056Z
LAST-MODIFIED:20250506T073056Z
UID:41905-1760119200-1760128200@montomagic.com.au
SUMMARY:Social Bowls
DESCRIPTION:Friday night social bowls.All welcome 6pm for a 6:30pm start Always a great night No bowls ~ no worries the club have some you can borrow. \nCost $10 a team (3 per team)  \nIf u don’t have 3\, don’t stress we will find u team mates.  \nBBQ tea. \n Every fortnight (Friday’s )  \nCourtesy bus available.
URL:https://montomagic.com.au/event/social-bowls-11/
CATEGORIES:Sports
END:VEVENT
BEGIN:VEVENT
DTSTART;TZID=Australia/Brisbane:20251006T090000
DTEND;TZID=Australia/Brisbane:20251006T110000
DTSTAMP:20260421T040441
CREATED:20250506T062033Z
LAST-MODIFIED:20250506T062033Z
UID:41570-1759741200-1759748400@montomagic.com.au
SUMMARY:Tai Chi
DESCRIPTION:
URL:https://montomagic.com.au/event/tai-chi-23/
LOCATION:Monto Shire Hall
CATEGORIES:Sports
END:VEVENT
BEGIN:VEVENT
DTSTART;TZID=Australia/Brisbane:20250929T090000
DTEND;TZID=Australia/Brisbane:20250929T110000
DTSTAMP:20260421T040441
CREATED:20250506T062002Z
LAST-MODIFIED:20250506T062002Z
UID:41568-1759136400-1759143600@montomagic.com.au
SUMMARY:Tai Chi
DESCRIPTION:
URL:https://montomagic.com.au/event/tai-chi-22/
LOCATION:Monto Shire Hall
CATEGORIES:Sports
END:VEVENT
BEGIN:VEVENT
DTSTART;TZID=Australia/Brisbane:20250926T180000
DTEND;TZID=Australia/Brisbane:20250926T203000
DTSTAMP:20260421T040441
CREATED:20250506T073023Z
LAST-MODIFIED:20250506T073023Z
UID:41903-1758909600-1758918600@montomagic.com.au
SUMMARY:Social Bowls
DESCRIPTION:Friday night social bowls.All welcome 6pm for a 6:30pm start Always a great night No bowls ~ no worries the club have some you can borrow. \nCost $10 a team (3 per team)  \nIf u don’t have 3\, don’t stress we will find u team mates.  \nBBQ tea. \n Every fortnight (Friday’s )  \nCourtesy bus available.
URL:https://montomagic.com.au/event/social-bowls-10/
CATEGORIES:Sports
END:VEVENT
BEGIN:VEVENT
DTSTART;TZID=Australia/Brisbane:20250922T090000
DTEND;TZID=Australia/Brisbane:20250922T110000
DTSTAMP:20260421T040441
CREATED:20250506T061933Z
LAST-MODIFIED:20250506T061933Z
UID:41566-1758531600-1758538800@montomagic.com.au
SUMMARY:Tai Chi
DESCRIPTION:
URL:https://montomagic.com.au/event/tai-chi-21/
LOCATION:Monto Shire Hall
CATEGORIES:Sports
END:VEVENT
BEGIN:VEVENT
DTSTART;TZID=Australia/Brisbane:20250920T140000
DTEND;TZID=Australia/Brisbane:20250920T170000
DTSTAMP:20260421T040441
CREATED:20250731T125754Z
LAST-MODIFIED:20250731T125754Z
UID:42480-1758376800-1758387600@montomagic.com.au
SUMMARY:Mungungo Gift 110m Sprint Race
DESCRIPTION:READY… SET… MUNGUNGO! \n\n\nThe Inaugural Mungungo Gift 110m Sprint\n Saturday 20th September 2 – 5pm\n Mungungo V’s the World Charity Cricket Day\n\n\nThink you’ve got speed? Prove it.\n Cash & Prize Packs up for grabs!\n Male & Female – Over & Under 18 Races\n This is a BUSH event\, not the Olympics — we’re in it for the FUN!\n\n\n Limited spots – nominate now:\n https://events.humanitix.com/mungungo-gift-110m-sprint\n Nominations close 2pm Friday 19th September
URL:https://montomagic.com.au/event/mungungo-gift-110m-sprint-race/
CATEGORIES:Event,Festivals,Food,Fundraisers,markets,Music,Sports
ATTACH;FMTTYPE=image/jpeg:https://montomagic.com.au/wp-content/uploads/2025/07/Cricket-flyer-Template-6-2.jpg
END:VEVENT
BEGIN:VEVENT
DTSTART;VALUE=DATE:20250920
DTEND;VALUE=DATE:20250921
DTSTAMP:20260421T040441
CREATED:20250505T131757Z
LAST-MODIFIED:20250804T084204Z
UID:41209-1758326400-1758412799@montomagic.com.au
SUMMARY:Mungungo V's The World Charity Cricket Day
DESCRIPTION:Mungungo V’s the World Cricket day. \n7 a side Cricket. \nRaising money for LifeFlight and local community organisations. \nContinuous Raffles – you have to be there to claim the prize. \nMajor Raffles – you don’t have to be there to claim the prize. \nCanteen – Thank You Monto Junior Cricket Club. \nBar – No BYO!!  If you bring your own alcohol\, you will be asked to leave and your team will disqualified – no refunds. \nAuctions – Some amazing items have been donated\, check the Mungungo Sports and Recreation Club Inc. facebook page for items. \nA day for the whole family – fresh country air\, wide open spaces for children to run around and play. \nJumping Castle.\nFace Painting.\nJohn Deere train rides.\nMarkets. \nShaded seating available or bring your own gazebo\, picnic rug & chairs. \n  \n \n \n\n READY… SET… MUNGUNGO! \n\n\nThe Inaugural Mungungo Gift 110m Sprint\n Saturday 20th September 2 – 5pm\n Mungungo V’s the World Charity Cricket Day\n\n\nThink you’ve got speed? Prove it.\n Cash & Prize Packs up for grabs!\n Male & Female – Over & Under 18 Races\n This is a BUSH event\, not the Olympics — we’re in it for the FUN!\n\n\n Limited spots – nominate now:\n https://events.humanitix.com/mungungo-gift-110m-sprint\n Nominations close 2pm Friday 19th September\n\n \n\n MUNGUNGO MARKETS ARE BACK! \nJoin us Saturday 20th September 2025 at the Mungungo V’s the World Charity Cricket Day for a fun-filled day of markets\, cricket\, and community spirit!\n\n\n Stallholders welcome – no booking needed (but you can if you like!)\n No cost to have a stall – just rock up and set up!\n Loads happening all day – don’t miss it!
URL:https://montomagic.com.au/event/mungungo-vs-the-world-charity-cricket-day/
LOCATION:Mungungo Sports & Recreation Grounds\, Knights Road\, Mungungo
CATEGORIES:Event,Festivals,Food,Fundraisers,markets,Music,Sports
ATTACH;FMTTYPE=image/jpeg:https://montomagic.com.au/wp-content/uploads/2025/05/2025-mungungo-poster-landscape-scaled.jpg
END:VEVENT
BEGIN:VEVENT
DTSTART;TZID=Australia/Brisbane:20250915T090000
DTEND;TZID=Australia/Brisbane:20250915T110000
DTSTAMP:20260421T040441
CREATED:20250506T061900Z
LAST-MODIFIED:20250506T061900Z
UID:41564-1757926800-1757934000@montomagic.com.au
SUMMARY:Tai Chi
DESCRIPTION:
URL:https://montomagic.com.au/event/tai-chi-20/
LOCATION:Monto Shire Hall
CATEGORIES:Sports
END:VEVENT
BEGIN:VEVENT
DTSTART;VALUE=DATE:20250914
DTEND;VALUE=DATE:20250915
DTSTAMP:20260421T040441
CREATED:20250527T063450Z
LAST-MODIFIED:20250527T063450Z
UID:42183-1757808000-1757894399@montomagic.com.au
SUMMARY:Pony Club Rally Day
DESCRIPTION:  \nMonto Pony Club – monto.ponyclub@gmail.com \nAt Monto Show Grounds\, Oxley St\, Monto
URL:https://montomagic.com.au/event/pony-club-rally-day-4/
CATEGORIES:Event,For Kids,Sports
ATTACH;FMTTYPE=image/jpeg:https://montomagic.com.au/wp-content/uploads/2025/05/Day-of-the-Horse-Instagram-Post-Made-with-PosterMyWall.jpg
END:VEVENT
BEGIN:VEVENT
DTSTART;TZID=Australia/Brisbane:20250912T180000
DTEND;TZID=Australia/Brisbane:20250912T203000
DTSTAMP:20260421T040441
CREATED:20250506T072954Z
LAST-MODIFIED:20250506T072954Z
UID:41901-1757700000-1757709000@montomagic.com.au
SUMMARY:Social Bowls
DESCRIPTION:Friday night social bowls.All welcome 6pm for a 6:30pm start Always a great night No bowls ~ no worries the club have some you can borrow. \nCost $10 a team (3 per team)  \nIf u don’t have 3\, don’t stress we will find u team mates.  \nBBQ tea. \n Every fortnight (Friday’s )  \nCourtesy bus available.
URL:https://montomagic.com.au/event/social-bowls-9/
CATEGORIES:Sports
END:VEVENT
BEGIN:VEVENT
DTSTART;TZID=Australia/Brisbane:20250908T090000
DTEND;TZID=Australia/Brisbane:20250908T110000
DTSTAMP:20260421T040441
CREATED:20250506T061827Z
LAST-MODIFIED:20250506T061827Z
UID:41562-1757322000-1757329200@montomagic.com.au
SUMMARY:Tai Chi
DESCRIPTION:
URL:https://montomagic.com.au/event/tai-chi-19/
LOCATION:Monto Shire Hall
CATEGORIES:Sports
END:VEVENT
BEGIN:VEVENT
DTSTART;VALUE=DATE:20250905
DTEND;VALUE=DATE:20250908
DTSTAMP:20260421T040441
CREATED:20250505T131708Z
LAST-MODIFIED:20250602T002820Z
UID:40993-1757030400-1757289599@montomagic.com.au
SUMMARY:Cania Fishing Competition
DESCRIPTION:
URL:https://montomagic.com.au/event/cania-fishing-competition-2/
LOCATION:Cania Dam
CATEGORIES:Event,Fishing,Food,For Kids,Fundraisers,markets,Music,Sports
ATTACH;FMTTYPE=image/jpeg:https://montomagic.com.au/wp-content/uploads/2025/05/502704365_122230932188034185_1089888918608108479_n.jpg
END:VEVENT
BEGIN:VEVENT
DTSTART;TZID=Australia/Brisbane:20250901T090000
DTEND;TZID=Australia/Brisbane:20250901T110000
DTSTAMP:20260421T040441
CREATED:20250506T061758Z
LAST-MODIFIED:20250506T061758Z
UID:41560-1756717200-1756724400@montomagic.com.au
SUMMARY:Tai Chi
DESCRIPTION:
URL:https://montomagic.com.au/event/tai-chi-18/
LOCATION:Monto Shire Hall
CATEGORIES:Sports
END:VEVENT
BEGIN:VEVENT
DTSTART;TZID=Australia/Brisbane:20250829T180000
DTEND;TZID=Australia/Brisbane:20250829T203000
DTSTAMP:20260421T040441
CREATED:20250506T072912Z
LAST-MODIFIED:20250506T072917Z
UID:41898-1756490400-1756499400@montomagic.com.au
SUMMARY:Social Bowls
DESCRIPTION:Friday night social bowls.All welcome 6pm for a 6:30pm start Always a great night No bowls ~ no worries the club have some you can borrow. \nCost $10 a team (3 per team)  \nIf u don’t have 3\, don’t stress we will find u team mates.  \nBBQ tea. \n Every fortnight (Friday’s )  \nCourtesy bus available.
URL:https://montomagic.com.au/event/social-bowls-copy/
CATEGORIES:Sports
END:VEVENT
BEGIN:VEVENT
DTSTART;TZID=Australia/Brisbane:20250825T090000
DTEND;TZID=Australia/Brisbane:20250825T110000
DTSTAMP:20260421T040441
CREATED:20250506T061732Z
LAST-MODIFIED:20250506T061732Z
UID:41558-1756112400-1756119600@montomagic.com.au
SUMMARY:Tai Chi
DESCRIPTION:
URL:https://montomagic.com.au/event/tai-chi-17/
LOCATION:Monto Shire Hall
CATEGORIES:Sports
END:VEVENT
BEGIN:VEVENT
DTSTART;TZID=Australia/Brisbane:20250818T090000
DTEND;TZID=Australia/Brisbane:20250818T110000
DTSTAMP:20260421T040441
CREATED:20250506T061650Z
LAST-MODIFIED:20250506T061650Z
UID:41556-1755507600-1755514800@montomagic.com.au
SUMMARY:Tai Chi
DESCRIPTION:
URL:https://montomagic.com.au/event/tai-chi-16/
LOCATION:Monto Shire Hall
CATEGORIES:Sports
END:VEVENT
END:VCALENDAR